BEGIN:VCALENDAR
PRODID:-//kirchenweb.ch gmbh//veranstaltungsausgabe v2.0//DE
VERSION:2.0
METHOD:PUBLISH
BEGIN:VEVENT
DTSTART:20260510T090000Z
DTEND:20260510T100000Z
LOCATION:Wagenhausen\, \,
TRANSP:OPAQUE
SEQUENCE:0
UID:36427-veranstaltung@kirchgemeinde.ch
DTSTAMP:20260419T162800Z
DESCRIPTION:Kontakt: kg.mammern@kirchgemeinde.ch\n\nWeitere Infos:
  https://www.kirchgemeinde.ch/veranstaltung/36427
SUMMARY:Gottesdienst in der Propstei Wagenhausen (Pfr. A. Stöckle)
PRIORITY:5
X-MICROSOFT-CDO-IMPORTANCE:1
CLASS:PUBLIC
END:VEVENT
END:VCALENDAR
