BEGIN:VCALENDAR
PRODID:-//kirchenweb.ch gmbh//veranstaltungsausgabe v2.0//DE
VERSION:2.0
METHOD:PUBLISH
BEGIN:VEVENT
DTSTART:20260531T080000Z
DTEND:20260531T090000Z
LOCATION:Mammern\, \,
TRANSP:OPAQUE
SEQUENCE:0
UID:36451-veranstaltung@kirchgemeinde.ch
DTSTAMP:20260419T162735Z
DESCRIPTION:Kontakt: kg.mammern@kirchgemeinde.ch\n\nWeitere Infos:
  https://www.kirchgemeinde.ch/veranstaltung/36451
SUMMARY:Gottesdienst mit Abendmahl in der Kirche Mammern (Pfr. A.
  Stöckle)
PRIORITY:5
X-MICROSOFT-CDO-IMPORTANCE:1
CLASS:PUBLIC
END:VEVENT
END:VCALENDAR
