BEGIN:VCALENDAR
PRODID:-//kirchenweb.ch gmbh//veranstaltungsausgabe v2.0//DE
VERSION:2.0
METHOD:PUBLISH
BEGIN:VEVENT
DTSTART:20260524T150000Z
DTEND:20260524T160000Z
LOCATION:Mammern\, \,
TRANSP:OPAQUE
SEQUENCE:0
UID:36453-veranstaltung@kirchgemeinde.ch
DTSTAMP:20260419T162913Z
DESCRIPTION:Kontakt: kg.mammern@kirchgemeinde.ch\n\nWeitere Infos:
  https://www.kirchgemeinde.ch/veranstaltung/36453
SUMMARY:Pfingstsonntag Gottesdienst in der Kapelle Klinik Schloss Mammern
  (Pfr. A. Stöckle)
PRIORITY:5
X-MICROSOFT-CDO-IMPORTANCE:1
CLASS:PUBLIC
END:VEVENT
END:VCALENDAR
